BEGIN:VCALENDAR
VERSION:2.0
PRODID:-//ical.marudot.com//iCal Event Maker
CALSCALE:GREGORIAN
BEGIN:VTIMEZONE
TZID:America/Chicago
LAST-MODIFIED:20250410T142247Z
TZURL:https://www.tzurl.org/zoneinfo-outlook/America/Chicago
X-LIC-LOCATION:America/Chicago
BEGIN:DAYLIGHT
TZNAME:CDT
TZOFFSETFROM:-0600
TZOFFSETTO:-0500
DTSTART:19700308T020000
RRULE:FREQ=YEARLY;BYMONTH=3;BYDAY=2SU
END:DAYLIGHT
BEGIN:STANDARD
TZNAME:CST
TZOFFSETFROM:-0500
TZOFFSETTO:-0600
DTSTART:19701101T020000
RRULE:FREQ=YEARLY;BYMONTH=11;BYDAY=1SU
END:STANDARD
END:VTIMEZONE
BEGIN:VEVENT
DTSTAMP:20260326T181415Z
UID:1774548799478-91903@ical.marudot.com
DTSTART;TZID=America/Chicago:20260430T120000
DTEND;TZID=America/Chicago:20260430T130000
SUMMARY:PPAI Webinar | LEAD 2026 Recap (& How To Get Involved NOW)
URL:https://www.ppai.org/media-hub/mark-your-calendar-webinar-recaps-ppai-legislative-concerns-how-you-can-help
DESCRIPTION:On Thursday\, April 30 at 12:00 PM CT\, click this link to view the Webinar\, click https://www.ppai.org/media-hub/mark-your-calendar-webinar-recaps-ppai-legislative-concerns-how-you-can-help\n\n*The webinar link will not be active until the day and time of the webinar.
BEGIN:VALARM
ACTION:DISPLAY
DESCRIPTION:PPAI Webinar | LEAD 2026 Recap (& How To Get Involved NOW)
TRIGGER:-PT30M
END:VALARM
END:VEVENT
END:VCALENDAR